BEGIN:VCALENDAR
VERSION:2.0
PRODID:-//Plone.org//NONSGML plone.app.event//EN
X-WR-TIMEZONE:Europe/Madrid
BEGIN:VEVENT
SUMMARY:La música dels llibres
DTSTART;TZID=Europe/Madrid;VALUE=DATE-TIME:20071214T200000
DTEND;TZID=Europe/Madrid;VALUE=DATE-TIME:20071214T210000
DTSTAMP;VALUE=DATE-TIME:20260423T234320Z
UID:1eed3d1020ff1b8dfd6499e6c55f73a4
CREATED;VALUE=DATE-TIME:20071214T000000Z
LOCATION:Biblioteca
ORGANIZER:Biblioteca P. Gual i Pujadas
URL:https://www.canetdemar.cat/document.php?id=3747
END:VEVENT
END:VCALENDAR