BEGIN:VCALENDAR
VERSION:2.0
PRODID:-//Plone.org//NONSGML plone.app.event//EN
X-WR-TIMEZONE:Europe/Madrid
BEGIN:VEVENT
SUMMARY:Fira de Santa Llúcia
DTSTART;TZID=Europe/Madrid;VALUE=DATE-TIME:20071208T000000
DTEND;TZID=Europe/Madrid;VALUE=DATE-TIME:20071208T010000
DTSTAMP;VALUE=DATE-TIME:20260421T210406Z
UID:bbde3461d354e61cfa30643e2ba69f14
CREATED;VALUE=DATE-TIME:20071208T000000Z
LOCATION:Riera Sant Domènec
ORGANIZER:Àrea de Festes
COMMENT:Durada: de 10.00 a 21.00 hores
URL:https://www.canetdemar.cat/document.php?id=3745
END:VEVENT
END:VCALENDAR