BEGIN:VCALENDAR
VERSION:2.0
PRODID:-//Plone.org//NONSGML plone.app.event//EN
X-WR-TIMEZONE:Europe/Madrid
BEGIN:VEVENT
SUMMARY:Xerrada Col·loqui: Comerç Just
DTSTART;TZID=Europe/Madrid;VALUE=DATE-TIME:20071127T193000
DTEND;TZID=Europe/Madrid;VALUE=DATE-TIME:20071127T203000
DTSTAMP;VALUE=DATE-TIME:20260422T053656Z
UID:a332b7e6dba50db43fcf873f5bc0c24e
CREATED;VALUE=DATE-TIME:20071127T000000Z
LOCATION:Aula Magna de l'Escola de Teixits
ORGANIZER:Escola d'Adults Maria Saus i Àrea d'Educació
URL:https://www.canetdemar.cat/document.php?id=3744
END:VEVENT
END:VCALENDAR