BEGIN:VCALENDAR
VERSION:2.0
PRODID:-//Plone.org//NONSGML plone.app.event//EN
X-WR-TIMEZONE:Europe/Madrid
BEGIN:VEVENT
SUMMARY:Dia Internacional dels Drets dels Infants
DTSTART;TZID=Europe/Madrid;VALUE=DATE-TIME:20071120T180000
DTEND;TZID=Europe/Madrid;VALUE=DATE-TIME:20071120T190000
DTSTAMP;VALUE=DATE-TIME:20260424T143756Z
UID:6ba178b0136bbb6a711ac6493d04541a
CREATED;VALUE=DATE-TIME:20071120T000000Z
LOCATION:Biblioteca
ORGANIZER:Regidoria d'Infància i Biblioteca P. Gual i Pujadas
DESCRIPTION:contacontes a la biblioteca
URL:https://www.canetdemar.cat/document.php?id=3719
END:VEVENT
END:VCALENDAR