BEGIN:VCALENDAR
VERSION:2.0
PRODID:-//Plone.org//NONSGML plone.app.event//EN
X-WR-TIMEZONE:Europe/Madrid
BEGIN:VEVENT
SUMMARY:Xerrada a càrrec d'Àngels Vega
DTSTART;TZID=Europe/Madrid;VALUE=DATE-TIME:20071110T200000
DTEND;TZID=Europe/Madrid;VALUE=DATE-TIME:20071110T210000
DTSTAMP;VALUE=DATE-TIME:20260423T101545Z
UID:c19b40a17f3d78a719151a9a37b586bc
CREATED;VALUE=DATE-TIME:20071110T000000Z
CATEGORIES:Conferència
LOCATION:CuraSana  C/ Mercat 14 (Pujada Cementiri) Canet de Mar
ORGANIZER:CuraSana
COMMENT:Preu: entrada lliure
DESCRIPTION:Com funcionen LES FLORS DEL DR. BACH
URL:https://www.canetdemar.cat/document.php?id=3705
END:VEVENT
END:VCALENDAR