BEGIN:VCALENDAR
VERSION:2.0
PRODID:-//Plone.org//NONSGML plone.app.event//EN
X-WR-TIMEZONE:Europe/Madrid
BEGIN:VEVENT
SUMMARY:1r Trofeu de Ball de Saló Vila de Canet de Mar
DTSTART;TZID=Europe/Madrid;VALUE=DATE-TIME:20030622T100000
DTEND;TZID=Europe/Madrid;VALUE=DATE-TIME:20030622T110000
DTSTAMP;VALUE=DATE-TIME:20260426T062309Z
UID:f20d87b2b49aa2bc7d76ccb4336fd699
CREATED;VALUE=DATE-TIME:20030622T000000Z
URL:https://www.canetdemar.cat/document.php?id=362
END:VEVENT
END:VCALENDAR