BEGIN:VCALENDAR
VERSION:2.0
PRODID:-//Plone.org//NONSGML plone.app.event//EN
X-WR-TIMEZONE:Europe/Madrid
BEGIN:VEVENT
SUMMARY:Festa del barri dels Socarrats
DTSTART;TZID=Europe/Madrid;VALUE=DATE-TIME:20030621T000000
DTEND;TZID=Europe/Madrid;VALUE=DATE-TIME:20030621T010000
DTSTAMP;VALUE=DATE-TIME:20260424T033520Z
UID:563ac4480a653add5a1df3faf56e0325
CREATED;VALUE=DATE-TIME:20030621T000000Z
URL:https://www.canetdemar.cat/document.php?id=360
END:VEVENT
END:VCALENDAR