BEGIN:VCALENDAR
VERSION:2.0
PRODID:-//Plone.org//NONSGML plone.app.event//EN
X-WR-TIMEZONE:Europe/Madrid
BEGIN:VEVENT
SUMMARY:Taller per a nens i nenes Viu el Modernisme
DTSTART;TZID=Europe/Madrid;VALUE=DATE-TIME:20070929T110000
DTEND;TZID=Europe/Madrid;VALUE=DATE-TIME:20070929T120000
DTSTAMP;VALUE=DATE-TIME:20260423T101201Z
UID:90416325e15cc03bd46acf85eef76492
CREATED;VALUE=DATE-TIME:20070929T000000Z
LOCATION:Casa museu Lluís Domènech i Montaner
DESCRIPTION:Jornades Europees del Patrimoni
URL:https://www.canetdemar.cat/document.php?id=3589
END:VEVENT
END:VCALENDAR