BEGIN:VCALENDAR
VERSION:2.0
PRODID:-//Plone.org//NONSGML plone.app.event//EN
X-WR-TIMEZONE:Europe/Madrid
BEGIN:VEVENT
SUMMARY:Inscripció cursos de l'Escola d'Adults
DTSTART;TZID=Europe/Madrid;VALUE=DATE-TIME:20070926T000000
DTEND;TZID=Europe/Madrid;VALUE=DATE-TIME:20070926T010000
DTSTAMP;VALUE=DATE-TIME:20260421T223753Z
UID:fdcbcce40c0d941a6923ea07b2196e3e
CREATED;VALUE=DATE-TIME:20070926T000000Z
LOCATION:Centre Cívic i cultura Vil·la Flora
ORGANIZER:Escola d'Adults Maria Saus
DESCRIPTION:Inici de curs 26 de setembre
URL:https://www.canetdemar.cat/document.php?id=3576
END:VEVENT
END:VCALENDAR