BEGIN:VCALENDAR
VERSION:2.0
PRODID:-//Plone.org//NONSGML plone.app.event//EN
X-WR-TIMEZONE:Europe/Madrid
BEGIN:VEVENT
SUMMARY:Vine a veure una de les mil i una nits
DTSTART;TZID=Europe/Madrid;VALUE=DATE-TIME:20070929T200000
DTEND;TZID=Europe/Madrid;VALUE=DATE-TIME:20070929T210000
DTSTAMP;VALUE=DATE-TIME:20260426T050439Z
UID:d9f6120b72e83888fca3ff5735768330
CREATED;VALUE=DATE-TIME:20070929T000000Z
LOCATION:Vil·la Flora
ORGANIZER:GEA XXI
COMMENT:Preu: 3 euros
URL:https://www.canetdemar.cat/document.php?id=3543
END:VEVENT
END:VCALENDAR