BEGIN:VCALENDAR
VERSION:2.0
PRODID:-//Plone.org//NONSGML plone.app.event//EN
X-WR-TIMEZONE:Europe/Madrid
BEGIN:VEVENT
SUMMARY:Concert de música Suavis
DTSTART;TZID=Europe/Madrid;VALUE=DATE-TIME:20030615T210000
DTEND;TZID=Europe/Madrid;VALUE=DATE-TIME:20030615T220000
DTSTAMP;VALUE=DATE-TIME:20260425T003458Z
UID:c98e97f8e35ee437f55fac7d4591052b
CREATED;VALUE=DATE-TIME:20030615T000000Z
URL:https://www.canetdemar.cat/document.php?id=353
END:VEVENT
END:VCALENDAR