BEGIN:VCALENDAR
VERSION:2.0
PRODID:-//Plone.org//NONSGML plone.app.event//EN
X-WR-TIMEZONE:Europe/Madrid
BEGIN:VEVENT
SUMMARY:Tai-chi
DTSTART;TZID=Europe/Madrid;VALUE=DATE-TIME:20070808T190000
DTEND;TZID=Europe/Madrid;VALUE=DATE-TIME:20070808T200000
DTSTAMP;VALUE=DATE-TIME:20260424T023858Z
UID:4783d2491eb9b1ab8d925b7e66a98cda
CREATED;VALUE=DATE-TIME:20070808T000000Z
LOCATION:davant de Neptú
ORGANIZER:Àrea de Turisme de l'Ajuntament i Diputació de Barcelona.
DESCRIPTION:Activitats esportives a la platja 2007
URL:https://www.canetdemar.cat/document.php?id=3507
END:VEVENT
END:VCALENDAR