BEGIN:VCALENDAR
VERSION:2.0
PRODID:-//Plone.org//NONSGML plone.app.event//EN
X-WR-TIMEZONE:Europe/Madrid
BEGIN:VEVENT
SUMMARY:Diverteix-te sent solidari, VINE A FER L'INDI!
DTSTART;TZID=Europe/Madrid;VALUE=DATE-TIME:20030614T210000
DTEND;TZID=Europe/Madrid;VALUE=DATE-TIME:20030614T220000
DTSTAMP;VALUE=DATE-TIME:20260423T064554Z
UID:2d9a7a72468d11a7ebff364c24616b49
CREATED;VALUE=DATE-TIME:20030614T000000Z
URL:https://www.canetdemar.cat/document.php?id=349
END:VEVENT
END:VCALENDAR