BEGIN:VCALENDAR
VERSION:2.0
PRODID:-//Plone.org//NONSGML plone.app.event//EN
X-WR-TIMEZONE:Europe/Madrid
BEGIN:VEVENT
SUMMARY:Partit de futbol
DTSTART;TZID=Europe/Madrid;VALUE=DATE-TIME:20070911T000000
DTEND;TZID=Europe/Madrid;VALUE=DATE-TIME:20070911T010000
DTSTAMP;VALUE=DATE-TIME:20260422T163928Z
UID:eb4cd735389268e3000fb393459ac581
CREATED;VALUE=DATE-TIME:20070911T000000Z
ORGANIZER:Canet Futbol Club
DESCRIPTION:Canet - Blanes
URL:https://www.canetdemar.cat/document.php?id=3424
END:VEVENT
END:VCALENDAR