BEGIN:VCALENDAR
VERSION:2.0
PRODID:-//Plone.org//NONSGML plone.app.event//EN
X-WR-TIMEZONE:Europe/Madrid
BEGIN:VEVENT
SUMMARY:Pinzellades de Canet
DTSTART;TZID=Europe/Madrid;VALUE=DATE-TIME:20070712T210000
DTEND;TZID=Europe/Madrid;VALUE=DATE-TIME:20070712T220000
DTSTAMP;VALUE=DATE-TIME:20260423T065246Z
UID:4764ce83db2b6fe1de4b2565e681cdf8
CREATED;VALUE=DATE-TIME:20070712T000000Z
LOCATION:Plaça 11 de setembre
DESCRIPTION:Lliurament dels vals de compra
URL:https://www.canetdemar.cat/document.php?id=3419
END:VEVENT
END:VCALENDAR