BEGIN:VCALENDAR
VERSION:2.0
PRODID:-//Plone.org//NONSGML plone.app.event//EN
X-WR-TIMEZONE:Europe/Madrid
BEGIN:VEVENT
SUMMARY:TORNEIG DE DUPLETES DE BOTXES
DTSTART;TZID=Europe/Madrid;VALUE=DATE-TIME:20070701T090000
DTEND;TZID=Europe/Madrid;VALUE=DATE-TIME:20070701T100000
DTSTAMP;VALUE=DATE-TIME:20260425T174020Z
UID:21717d39c28dea4f12b7e3f6175f6883
CREATED;VALUE=DATE-TIME:20070701T000000Z
CATEGORIES:Esports
LOCATION:CLUB BOTXES CANET DE MAR
ORGANIZER:Club Botxes Canet
COMMENT:Preu: Inscripció Gratuïta
Durada: Fins a les 14:00 hores
DESCRIPTION:8 equips de Canet - Girona - G.E.I.E.G
URL:https://www.canetdemar.cat/document.php?id=3394
END:VEVENT
END:VCALENDAR