BEGIN:VCALENDAR
VERSION:2.0
PRODID:-//Plone.org//NONSGML plone.app.event//EN
X-WR-TIMEZONE:Europe/Madrid
BEGIN:VEVENT
SUMMARY:VI Exposició de Bonsais
DTSTART;TZID=Europe/Madrid;VALUE=DATE-TIME:20070701T000000
DTEND;TZID=Europe/Madrid;VALUE=DATE-TIME:20070701T010000
DTSTAMP;VALUE=DATE-TIME:20260423T051120Z
UID:96040d0deb25fec518ecb57d5b758f26
CREATED;VALUE=DATE-TIME:20070701T000000Z
LOCATION:Casa museu Lluís Domènech i Montaner
ORGANIZER:Amics dels Bonsais de Caldes d'Estrac
COMMENT:Durada: tot el dia
DESCRIPTION:FESTA MAJOR
URL:https://www.canetdemar.cat/document.php?id=3388
END:VEVENT
END:VCALENDAR