BEGIN:VCALENDAR
VERSION:2.0
PRODID:-//Plone.org//NONSGML plone.app.event//EN
X-WR-TIMEZONE:Europe/Madrid
BEGIN:VEVENT
SUMMARY:Òpera Don Pascuale de Gaetano Donizetti
DTSTART;TZID=Europe/Madrid;VALUE=DATE-TIME:20070811T220000
DTEND;TZID=Europe/Madrid;VALUE=DATE-TIME:20070811T230000
DTSTAMP;VALUE=DATE-TIME:20260424T034100Z
UID:067f42336b0fd0c3db62081a35711747
CREATED;VALUE=DATE-TIME:20070811T000000Z
LOCATION:Pati d'armes del Castell
COMMENT:Preu: 60 euros
DESCRIPTION:IX Festival de Música Clàssica Castell de Santa Florentina
URL:https://www.canetdemar.cat/document.php?id=3360
END:VEVENT
END:VCALENDAR