BEGIN:VCALENDAR
VERSION:2.0
PRODID:-//Plone.org//NONSGML plone.app.event//EN
X-WR-TIMEZONE:Europe/Madrid
BEGIN:VEVENT
SUMMARY:José Enrique Bagaría (piano)
DTSTART;TZID=Europe/Madrid;VALUE=DATE-TIME:20070802T220000
DTEND;TZID=Europe/Madrid;VALUE=DATE-TIME:20070802T230000
DTSTAMP;VALUE=DATE-TIME:20260422T182421Z
UID:4aff78faa8b3df83d936f7edfff7444f
CREATED;VALUE=DATE-TIME:20070802T000000Z
LOCATION:Pati d'armes del Castell
COMMENT:Preu: 20 euros
DESCRIPTION:IX Festival de Música Clàssica Castell de Santa Florentina
URL:https://www.canetdemar.cat/document.php?id=3358
END:VEVENT
END:VCALENDAR