BEGIN:VCALENDAR
VERSION:2.0
PRODID:-//Plone.org//NONSGML plone.app.event//EN
X-WR-TIMEZONE:Europe/Madrid
BEGIN:VEVENT
SUMMARY:Cloenda de les Festes Jubilars
DTSTART;TZID=Europe/Madrid;VALUE=DATE-TIME:20071110T213000
DTEND;TZID=Europe/Madrid;VALUE=DATE-TIME:20071110T223000
DTSTAMP;VALUE=DATE-TIME:20260422T143454Z
UID:b53ce6b9569b69c090259685e0970306
CREATED;VALUE=DATE-TIME:20071110T000000Z
LOCATION:Església Parroquial
COMMENT:Preu: entrada gratuïta
DESCRIPTION:Concert del Cor Vivalvi, petits cantors de Catalunya
URL:https://www.canetdemar.cat/document.php?id=3353
END:VEVENT
END:VCALENDAR