BEGIN:VCALENDAR
VERSION:2.0
PRODID:-//Plone.org//NONSGML plone.app.event//EN
X-WR-TIMEZONE:Europe/Madrid
BEGIN:VEVENT
SUMMARY:Sopar-concert de JAZZ
DTSTART;TZID=Europe/Madrid;VALUE=DATE-TIME:20070910T220000
DTEND;TZID=Europe/Madrid;VALUE=DATE-TIME:20070910T230000
DTSTAMP;VALUE=DATE-TIME:20260423T013735Z
UID:6a9084c5b81e7a8959505e5dd7b97be4
CREATED;VALUE=DATE-TIME:20070910T000000Z
LOCATION:Parc del Santuari
ORGANIZER:Patronat del Santuari
DESCRIPTION:Festes Jubilars de la Mare de Déu de la Misericòrdia
URL:https://www.canetdemar.cat/document.php?id=3348
END:VEVENT
END:VCALENDAR