BEGIN:VCALENDAR
VERSION:2.0
PRODID:-//Plone.org//NONSGML plone.app.event//EN
X-WR-TIMEZONE:Europe/Madrid
BEGIN:VEVENT
SUMMARY:Eucaristia i IX Novena
DTSTART;TZID=Europe/Madrid;VALUE=DATE-TIME:20070907T061500
DTEND;TZID=Europe/Madrid;VALUE=DATE-TIME:20070907T071500
DTSTAMP;VALUE=DATE-TIME:20260424T045638Z
UID:825e00a8251b5af4277e365923c94e5d
CREATED;VALUE=DATE-TIME:20070907T000000Z
LOCATION:Parròquia de Sant Pere i Sant Pau
ORGANIZER:Patronat del Santuari
DESCRIPTION:Al matí i al vespre
URL:https://www.canetdemar.cat/document.php?id=3345
END:VEVENT
END:VCALENDAR