BEGIN:VCALENDAR
VERSION:2.0
PRODID:-//Plone.org//NONSGML plone.app.event//EN
X-WR-TIMEZONE:Europe/Madrid
BEGIN:VEVENT
SUMMARY:Festa Fi de Curs 2007
DTSTART;TZID=Europe/Madrid;VALUE=DATE-TIME:20070616T180000
DTEND;TZID=Europe/Madrid;VALUE=DATE-TIME:20070616T190000
DTSTAMP;VALUE=DATE-TIME:20260425T222150Z
UID:ff25c937c9190127fe7e0483ad05d2d4
CREATED;VALUE=DATE-TIME:20070616T000000Z
CATEGORIES:Festa
LOCATION:Escola Misericòrdia
ORGANIZER:AMPA CEIP Misericòrdia
COMMENT:Preu: Sopar adults 10,50 &euro; Sopar nens 6,50 &euro;
URL:https://www.canetdemar.cat/document.php?id=3328
END:VEVENT
END:VCALENDAR