BEGIN:VCALENDAR
VERSION:2.0
PRODID:-//Plone.org//NONSGML plone.app.event//EN
X-WR-TIMEZONE:Europe/Madrid
BEGIN:VEVENT
SUMMARY:Sarsuela: Luisa Fernanda de F.m. Torroba
DTSTART;TZID=Europe/Madrid;VALUE=DATE-TIME:20070624T213000
DTEND;TZID=Europe/Madrid;VALUE=DATE-TIME:20070624T223000
DTSTAMP;VALUE=DATE-TIME:20260421T123134Z
UID:b997a29a8cee99d694361df98e21878a
CREATED;VALUE=DATE-TIME:20070624T000000Z
LOCATION:Envelat de Vil·la Flora
ORGANIZER:Àrea de Cultura
DESCRIPTION:FESTA MAJOR 2007
URL:https://www.canetdemar.cat/document.php?id=3302
END:VEVENT
END:VCALENDAR