BEGIN:VCALENDAR
VERSION:2.0
PRODID:-//Plone.org//NONSGML plone.app.event//EN
X-WR-TIMEZONE:Europe/Madrid
BEGIN:VEVENT
SUMMARY:Concert del Cor Infantil de l'Escola de Música
DTSTART;TZID=Europe/Madrid;VALUE=DATE-TIME:20070610T120000
DTEND;TZID=Europe/Madrid;VALUE=DATE-TIME:20070610T130000
DTSTAMP;VALUE=DATE-TIME:20260423T150634Z
UID:81b321ac2c81c8e08ce636c80f56accc
CREATED;VALUE=DATE-TIME:20070610T000000Z
LOCATION:Santuari de la Mare de Déu de la Miseriòrdia
ORGANIZER:Escola de Música i Patronat de la Mare de Déu de la Misericòrdia
DESCRIPTION:Festes Jubilars de la Mare de Déu de la Misericòrdia
URL:https://www.canetdemar.cat/document.php?id=3280
END:VEVENT
END:VCALENDAR