BEGIN:VCALENDAR
VERSION:2.0
PRODID:-//Plone.org//NONSGML plone.app.event//EN
X-WR-TIMEZONE:Europe/Madrid
BEGIN:VEVENT
SUMMARY:VI Cantada d'havaneres
DTSTART;TZID=Europe/Madrid;VALUE=DATE-TIME:20070721T220000
DTEND;TZID=Europe/Madrid;VALUE=DATE-TIME:20070721T230000
DTSTAMP;VALUE=DATE-TIME:20260423T153321Z
UID:db2622f11383b6a9c365292455711269
CREATED;VALUE=DATE-TIME:20070721T000000Z
LOCATION:Al passeig Marítim
ORGANIZER:Comissió Havaneres
DESCRIPTION:FESTA MAJOR
URL:https://www.canetdemar.cat/document.php?id=3275
END:VEVENT
END:VCALENDAR