BEGIN:VCALENDAR
VERSION:2.0
PRODID:-//Plone.org//NONSGML plone.app.event//EN
X-WR-TIMEZONE:Europe/Madrid
BEGIN:VEVENT
SUMMARY:Postulació del càncer
DTSTART;TZID=Europe/Madrid;VALUE=DATE-TIME:20070707T000000
DTEND;TZID=Europe/Madrid;VALUE=DATE-TIME:20070707T010000
DTSTAMP;VALUE=DATE-TIME:20260425T235721Z
UID:79c4b55319c32354a79c0442ef7c2c7a
CREATED;VALUE=DATE-TIME:20070707T000000Z
ORGANIZER:Associació de Lluita contra el Càncer
DESCRIPTION:FESTA MAJOR 2007
URL:https://www.canetdemar.cat/document.php?id=3261
END:VEVENT
END:VCALENDAR