BEGIN:VCALENDAR
VERSION:2.0
PRODID:-//Plone.org//NONSGML plone.app.event//EN
X-WR-TIMEZONE:Europe/Madrid
BEGIN:VEVENT
SUMMARY:XXII Trobada de Gegants
DTSTART;TZID=Europe/Madrid;VALUE=DATE-TIME:20070701T180000
DTEND;TZID=Europe/Madrid;VALUE=DATE-TIME:20070701T190000
DTSTAMP;VALUE=DATE-TIME:20260424T081443Z
UID:18705e4029b916c62d72e81d64936284
CREATED;VALUE=DATE-TIME:20070701T000000Z
LOCATION:plaça Macià
DESCRIPTION:FESTA MAJOR 2007
URL:https://www.canetdemar.cat/document.php?id=3258
END:VEVENT
END:VCALENDAR