BEGIN:VCALENDAR
VERSION:2.0
PRODID:-//Plone.org//NONSGML plone.app.event//EN
X-WR-TIMEZONE:Europe/Madrid
BEGIN:VEVENT
SUMMARY:Revetlla de Sant Joan
DTSTART;TZID=Europe/Madrid;VALUE=DATE-TIME:20070623T230000
DTEND;TZID=Europe/Madrid;VALUE=DATE-TIME:20070624T000000
DTSTAMP;VALUE=DATE-TIME:20260425T123527Z
UID:a39ddcf141283348929ae9a940bfb3fb
CREATED;VALUE=DATE-TIME:20070623T000000Z
LOCATION:Plaça 11 de setembre
ORGANIZER:Ajuntament de Canet de Mar
DESCRIPTION:amb l'Orquestra La Comparsa
URL:https://www.canetdemar.cat/document.php?id=3244
END:VEVENT
END:VCALENDAR