BEGIN:VCALENDAR
VERSION:2.0
PRODID:-//Plone.org//NONSGML plone.app.event//EN
X-WR-TIMEZONE:Europe/Madrid
BEGIN:VEVENT
SUMMARY:Inauguració i lliurament dels premis de l'Exposició col·lectiva de Sant Pere
DTSTART;TZID=Europe/Madrid;VALUE=DATE-TIME:20070620T190000
DTEND;TZID=Europe/Madrid;VALUE=DATE-TIME:20070620T200000
DTSTAMP;VALUE=DATE-TIME:20260425T154944Z
UID:b1d5f6c5fafae579e38a57a6d75b7dad
CREATED;VALUE=DATE-TIME:20070620T000000Z
LOCATION:Sala municipal d'exposicions
ORGANIZER:Comissió d'Arts Visuals
DESCRIPTION:del 20 de juny al 3 de juliol
URL:https://www.canetdemar.cat/document.php?id=3243
END:VEVENT
END:VCALENDAR