BEGIN:VCALENDAR
VERSION:2.0
PRODID:-//Plone.org//NONSGML plone.app.event//EN
X-WR-TIMEZONE:Europe/Madrid
BEGIN:VEVENT
SUMMARY:Revetlla d'inici d'estiu
DTSTART;TZID=Europe/Madrid;VALUE=DATE-TIME:20070616T230000
DTEND;TZID=Europe/Madrid;VALUE=DATE-TIME:20070617T000000
DTSTAMP;VALUE=DATE-TIME:20260426T045114Z
UID:077d28b86b3cc05052c75856dfef0171
CREATED;VALUE=DATE-TIME:20070616T000000Z
LOCATION:Pistes esportives de l'IES Domènech i Montaner
ORGANIZER:Amics del Ball i Àrea de Cultura
DESCRIPTION:Amb l'orquestra Metropol
URL:https://www.canetdemar.cat/document.php?id=3240
END:VEVENT
END:VCALENDAR