BEGIN:VCALENDAR
VERSION:2.0
PRODID:-//Plone.org//NONSGML plone.app.event//EN
X-WR-TIMEZONE:Europe/Madrid
BEGIN:VEVENT
SUMMARY:Clàssics de l'Odèon: Quartet de corda Dalí
DTSTART;TZID=Europe/Madrid;VALUE=DATE-TIME:20070701T220000
DTEND;TZID=Europe/Madrid;VALUE=DATE-TIME:20070701T230000
DTSTAMP;VALUE=DATE-TIME:20260424T050500Z
UID:5101ef800d2f6238e8c0be3bd73d4481
CREATED;VALUE=DATE-TIME:20070701T000000Z
LOCATION:Jadins de Terra i Cel de Vil·la Flora
ORGANIZER:ACPO i Àrea de Cultura
COMMENT:Preu: socis: 3 euros / no socis: 5 euros
DESCRIPTION:FESTA MAJOR
URL:https://www.canetdemar.cat/document.php?id=3237
END:VEVENT
END:VCALENDAR