BEGIN:VCALENDAR
VERSION:2.0
PRODID:-//Plone.org//NONSGML plone.app.event//EN
X-WR-TIMEZONE:Europe/Madrid
BEGIN:VEVENT
SUMMARY:Doble concert: Beth i Jonah Smith
DTSTART;TZID=Europe/Madrid;VALUE=DATE-TIME:20070602T220000
DTEND;TZID=Europe/Madrid;VALUE=DATE-TIME:20070602T230000
DTSTAMP;VALUE=DATE-TIME:20260424T161150Z
UID:f8619fc4a6bc8164cf8f9d58a1966046
CREATED;VALUE=DATE-TIME:20070602T000000Z
LOCATION:Cúpula de Comediants
ORGANIZER:ACPO
COMMENT:Preu: socis: 7 euros / no socis: 10 euros
URL:https://www.canetdemar.cat/document.php?id=3233
END:VEVENT
END:VCALENDAR