BEGIN:VCALENDAR
VERSION:2.0
PRODID:-//Plone.org//NONSGML plone.app.event//EN
X-WR-TIMEZONE:Europe/Madrid
BEGIN:VEVENT
SUMMARY:Conferència sobre medicina natural
DTSTART;TZID=Europe/Madrid;VALUE=DATE-TIME:20070614T190000
DTEND;TZID=Europe/Madrid;VALUE=DATE-TIME:20070614T200000
DTSTAMP;VALUE=DATE-TIME:20260422T164610Z
UID:48a6573172128628d6d972870e93a194
CREATED;VALUE=DATE-TIME:20070614T000000Z
CATEGORIES:Conferència
LOCATION:Plaça Manén (seu de Sàlvia)
ORGANIZER:Sàlvia Associació de dones
COMMENT:Preu: gratuït
URL:https://www.canetdemar.cat/document.php?id=3227
END:VEVENT
END:VCALENDAR