BEGIN:VCALENDAR
VERSION:2.0
PRODID:-//Plone.org//NONSGML plone.app.event//EN
X-WR-TIMEZONE:Europe/Madrid
BEGIN:VEVENT
SUMMARY:Visita de l'autobús d'atenció al consumidor
DTSTART;TZID=Europe/Madrid;VALUE=DATE-TIME:20070516T100000
DTEND;TZID=Europe/Madrid;VALUE=DATE-TIME:20070516T110000
DTSTAMP;VALUE=DATE-TIME:20260423T091251Z
UID:eeb94d169524c3d6ea5db0b8bda65570
CREATED;VALUE=DATE-TIME:20070516T000000Z
LOCATION:Riera Buscarons, a l'alçada de la Plaça Mercat
ORGANIZER:Àrea de Comerç
COMMENT:Durada: de 10.30 a 13.00 hores
URL:https://www.canetdemar.cat/document.php?id=3162
END:VEVENT
END:VCALENDAR