BEGIN:VCALENDAR
VERSION:2.0
PRODID:-//Plone.org//NONSGML plone.app.event//EN
X-WR-TIMEZONE:Europe/Madrid
BEGIN:VEVENT
SUMMARY:Recuperació d'una teràpia molt antiga: l'aigua de mar i l'orina
DTSTART;TZID=Europe/Madrid;VALUE=DATE-TIME:20070519T200000
DTEND;TZID=Europe/Madrid;VALUE=DATE-TIME:20070519T210000
DTSTAMP;VALUE=DATE-TIME:20260423T045801Z
UID:3ca07bafce9b2ac3a524311913015caa
CREATED;VALUE=DATE-TIME:20070519T000000Z
CATEGORIES:Conferència
LOCATION:CuraSana  C/ Mercat 14 -baixada cementiri-
ORGANIZER:CuraSana
COMMENT:Preu: Activitat Gratuïta
DESCRIPTION:per Dídac García Rodríguez
URL:https://www.canetdemar.cat/document.php?id=3154
END:VEVENT
END:VCALENDAR