BEGIN:VCALENDAR
VERSION:2.0
PRODID:-//Plone.org//NONSGML plone.app.event//EN
X-WR-TIMEZONE:Europe/Madrid
BEGIN:VEVENT
SUMMARY:ASTROLOGIA per Carme Durich  (col.labora Jordi Pomés amb Les 12 Proves d'Hèrcules
DTSTART;TZID=Europe/Madrid;VALUE=DATE-TIME:20070526T200000
DTEND;TZID=Europe/Madrid;VALUE=DATE-TIME:20070526T210000
DTSTAMP;VALUE=DATE-TIME:20260422T053444Z
UID:7f419147d65b5a9318a5916221532a9e
CREATED;VALUE=DATE-TIME:20070526T000000Z
CATEGORIES:Conferència
LOCATION:CuraSana  C/ Mercat 14  -Baixada Cementiri-
ORGANIZER:CuraSana
COMMENT:Preu: Activitat Gratuïta
DESCRIPTION:GÈMINIS (mercuri) La comunicació i la neurosi
URL:https://www.canetdemar.cat/document.php?id=3153
END:VEVENT
END:VCALENDAR