BEGIN:VCALENDAR
VERSION:2.0
PRODID:-//Plone.org//NONSGML plone.app.event//EN
X-WR-TIMEZONE:Europe/Madrid
BEGIN:VEVENT
SUMMARY:Missatges ocults en l'art, per Antonio Casado
DTSTART;TZID=Europe/Madrid;VALUE=DATE-TIME:20070512T200000
DTEND;TZID=Europe/Madrid;VALUE=DATE-TIME:20070512T210000
DTSTAMP;VALUE=DATE-TIME:20260422T073056Z
UID:4fd07a4837d9b11943a6bb99eeb71ad1
CREATED;VALUE=DATE-TIME:20070512T000000Z
CATEGORIES:Conferència
LOCATION:CuraSana:C/Mercat 14 -Baixada Cementiri-
ORGANIZER:CuraSana
COMMENT:Preu: activitat gratuïta
DESCRIPTION:El tríptic de Johfra Bosschart (1919-1998)
URL:https://www.canetdemar.cat/document.php?id=3148
END:VEVENT
END:VCALENDAR