BEGIN:VCALENDAR
VERSION:2.0
PRODID:-//Plone.org//NONSGML plone.app.event//EN
X-WR-TIMEZONE:Europe/Madrid
BEGIN:VEVENT
SUMMARY:9a Marxa Popular
DTSTART;TZID=Europe/Madrid;VALUE=DATE-TIME:20070513T080000
DTEND;TZID=Europe/Madrid;VALUE=DATE-TIME:20070513T090000
DTSTAMP;VALUE=DATE-TIME:20260424T193457Z
UID:b2b4e2ccb7888a5c2cc85e6ad534a205
CREATED;VALUE=DATE-TIME:20070513T000000Z
LOCATION:Jardins de Vil.la Flora
ORGANIZER:Moixons Llepafils, Cargos llunats i Ajuntament de Canet
COMMENT:Preu: 6 euros
URL:https://www.canetdemar.cat/document.php?id=3134
END:VEVENT
END:VCALENDAR