BEGIN:VCALENDAR
VERSION:2.0
PRODID:-//Plone.org//NONSGML plone.app.event//EN
X-WR-TIMEZONE:Europe/Madrid
BEGIN:VEVENT
SUMMARY:Concert dels alumnes de la Professora del Liceu Margarita Serrat
DTSTART;TZID=Europe/Madrid;VALUE=DATE-TIME:20070512T180000
DTEND;TZID=Europe/Madrid;VALUE=DATE-TIME:20070512T190000
DTSTAMP;VALUE=DATE-TIME:20260426T031219Z
UID:e0e8cb172cd258d90c567d0e2cc57b63
CREATED;VALUE=DATE-TIME:20070512T000000Z
LOCATION:Auditori Jauma Dotras i Serrabella
ORGANIZER:Escola de Música
URL:https://www.canetdemar.cat/document.php?id=3133
END:VEVENT
END:VCALENDAR