BEGIN:VCALENDAR
VERSION:2.0
PRODID:-//Plone.org//NONSGML plone.app.event//EN
X-WR-TIMEZONE:Europe/Madrid
BEGIN:VEVENT
SUMMARY:Exposició Joieria Modernista Catalana
DTSTART;TZID=Europe/Madrid;VALUE=DATE-TIME:20070421T000000
DTEND;TZID=Europe/Madrid;VALUE=DATE-TIME:20070421T010000
DTSTAMP;VALUE=DATE-TIME:20260423T214459Z
UID:0b9b737c6c715a6110c40197b653b853
CREATED;VALUE=DATE-TIME:20070421T000000Z
LOCATION:Joieria Gratovil
DESCRIPTION:21, 22 i 23 d'abril
URL:https://www.canetdemar.cat/document.php?id=3129
END:VEVENT
END:VCALENDAR