BEGIN:VCALENDAR
VERSION:2.0
PRODID:-//Plone.org//NONSGML plone.app.event//EN
X-WR-TIMEZONE:Europe/Madrid
BEGIN:VEVENT
SUMMARY:Club de lectura
DTSTART;TZID=Europe/Madrid;VALUE=DATE-TIME:20070518T190000
DTEND;TZID=Europe/Madrid;VALUE=DATE-TIME:20070518T200000
DTSTAMP;VALUE=DATE-TIME:20260421T123859Z
UID:2594cf9182183ed19f9e9e1c30136b0a
CREATED;VALUE=DATE-TIME:20070518T000000Z
LOCATION:Biblioteca
ORGANIZER:Biblioteca P. Gual i Pujadas
URL:https://www.canetdemar.cat/document.php?id=3125
END:VEVENT
END:VCALENDAR