BEGIN:VCALENDAR
VERSION:2.0
PRODID:-//Plone.org//NONSGML plone.app.event//EN
X-WR-TIMEZONE:Europe/Madrid
BEGIN:VEVENT
SUMMARY:Lectura de Petites històries per un conte gegant
DTSTART;TZID=Europe/Madrid;VALUE=DATE-TIME:20070422T120000
DTEND;TZID=Europe/Madrid;VALUE=DATE-TIME:20070422T130000
DTSTAMP;VALUE=DATE-TIME:20260422T073125Z
UID:a2422723370e5d04076e5ac8862052ff
CREATED;VALUE=DATE-TIME:20070422T000000Z
LOCATION:Biblioriera (Riera Sant Domènec)
ORGANIZER:Biblioteca P. Gual i Pujadas
URL:https://www.canetdemar.cat/document.php?id=3100
END:VEVENT
END:VCALENDAR