BEGIN:VCALENDAR
VERSION:2.0
PRODID:-//Plone.org//NONSGML plone.app.event//EN
X-WR-TIMEZONE:Europe/Madrid
BEGIN:VEVENT
SUMMARY:Nit de teatre: Òscar, una maleta, dues maletes, tres maletes...
DTSTART;TZID=Europe/Madrid;VALUE=DATE-TIME:20070516T000000
DTEND;TZID=Europe/Madrid;VALUE=DATE-TIME:20070516T010000
DTSTAMP;VALUE=DATE-TIME:20260424T112257Z
UID:fabb3a57506a2082bb2bd77be7c0a63c
CREATED;VALUE=DATE-TIME:20070516T000000Z
ORGANIZER:Àrea de Joventut
URL:https://www.canetdemar.cat/document.php?id=3094
END:VEVENT
END:VCALENDAR