BEGIN:VCALENDAR
VERSION:2.0
PRODID:-//Plone.org//NONSGML plone.app.event//EN
X-WR-TIMEZONE:Europe/Madrid
BEGIN:VEVENT
SUMMARY:ASTROLOGIA a càrrec de Carme Durich
DTSTART;TZID=Europe/Madrid;VALUE=DATE-TIME:20070428T200000
DTEND;TZID=Europe/Madrid;VALUE=DATE-TIME:20070428T210000
DTSTAMP;VALUE=DATE-TIME:20260423T013920Z
UID:a7aacd1f5f293bb0953aa9933b8729c7
CREATED;VALUE=DATE-TIME:20070428T000000Z
CATEGORIES:Conferència
LOCATION:CuraSana  C/ Mercat 14
ORGANIZER:CuraSana
COMMENT:Preu: activitat gratuïta
DESCRIPTION:Tauro i l'AMOR a cada signe (i les 12 proves d'Hèrcules a càrrec de Jordi Pomés)
URL:https://www.canetdemar.cat/document.php?id=3072
END:VEVENT
END:VCALENDAR