BEGIN:VCALENDAR
VERSION:2.0
PRODID:-//Plone.org//NONSGML plone.app.event//EN
X-WR-TIMEZONE:Europe/Madrid
BEGIN:VEVENT
SUMMARY:Seminari d'Análisi Transaccional a càrrec de Pilar Gràcia
DTSTART;TZID=Europe/Madrid;VALUE=DATE-TIME:20070415T000000
DTEND;TZID=Europe/Madrid;VALUE=DATE-TIME:20070415T010000
DTSTAMP;VALUE=DATE-TIME:20260425T193135Z
UID:8dd0df8695bf03d527a25e9e08f9686e
CREATED;VALUE=DATE-TIME:20070415T000000Z
CATEGORIES:Cursos
LOCATION:CuraSana  C/ Mercat 14 -local-
ORGANIZER:CuraSana
COMMENT:Preu: 24 &euro;
DESCRIPTION:3a i darrera  sessió del Seminari
URL:https://www.canetdemar.cat/document.php?id=3071
END:VEVENT
END:VCALENDAR