BEGIN:VCALENDAR
VERSION:2.0
PRODID:-//Plone.org//NONSGML plone.app.event//EN
X-WR-TIMEZONE:Europe/Madrid
BEGIN:VEVENT
SUMMARY:Exposició: 85 punt i seguit
DTSTART;TZID=Europe/Madrid;VALUE=DATE-TIME:20070419T190000
DTEND;TZID=Europe/Madrid;VALUE=DATE-TIME:20070419T200000
DTSTAMP;VALUE=DATE-TIME:20260424T093500Z
UID:4ac08254b0ead4eb777731963caba020
CREATED;VALUE=DATE-TIME:20070419T000000Z
LOCATION:Sala municipal d'exposicions
ORGANIZER:Escola Universitària d'Enginyeria Tècnica de Teixits de Punt de Canet de Mar
DESCRIPTION:Del 19 al 23 d'abril
URL:https://www.canetdemar.cat/document.php?id=3070
END:VEVENT
END:VCALENDAR