BEGIN:VCALENDAR
VERSION:2.0
PRODID:-//Plone.org//NONSGML plone.app.event//EN
X-WR-TIMEZONE:Europe/Madrid
BEGIN:VEVENT
SUMMARY:Perkutes de Kanet
DTSTART;TZID=Europe/Madrid;VALUE=DATE-TIME:20070421T203000
DTEND;TZID=Europe/Madrid;VALUE=DATE-TIME:20070421T213000
DTSTAMP;VALUE=DATE-TIME:20260423T165712Z
UID:d3f5c104ea1930add18a3aa023e093f0
CREATED;VALUE=DATE-TIME:20070421T000000Z
LOCATION:Plaça de la Llenya
ORGANIZER:Mostra d'Entitats
URL:https://www.canetdemar.cat/document.php?id=3064
END:VEVENT
END:VCALENDAR