BEGIN:VCALENDAR
VERSION:2.0
PRODID:-//Plone.org//NONSGML plone.app.event//EN
X-WR-TIMEZONE:Europe/Madrid
BEGIN:VEVENT
SUMMARY:Premis Canetecs 2006
DTSTART;TZID=Europe/Madrid;VALUE=DATE-TIME:20070422T200000
DTEND;TZID=Europe/Madrid;VALUE=DATE-TIME:20070422T210000
DTSTAMP;VALUE=DATE-TIME:20260422T165106Z
UID:179f16df8b367ca37cf3ffbb2eebe7ed
CREATED;VALUE=DATE-TIME:20070422T000000Z
LOCATION:Plaça Macià
ORGANIZER:Mostra d'Entitats
URL:https://www.canetdemar.cat/document.php?id=3061
END:VEVENT
END:VCALENDAR