BEGIN:VCALENDAR
VERSION:2.0
PRODID:-//Plone.org//NONSGML plone.app.event//EN
X-WR-TIMEZONE:Europe/Madrid
BEGIN:VEVENT
SUMMARY:Patinatge Artístic
DTSTART;TZID=Europe/Madrid;VALUE=DATE-TIME:20070421T090000
DTEND;TZID=Europe/Madrid;VALUE=DATE-TIME:20070421T100000
DTSTAMP;VALUE=DATE-TIME:20260423T150952Z
UID:84162b72913f3b2f0bc0bc65d00f64ff
CREATED;VALUE=DATE-TIME:20070421T000000Z
LOCATION:Pavelló Poliesportiu
ORGANIZER:Mostra d'Entitats
COMMENT:Durada: de 9.00 a 12.00 hores
URL:https://www.canetdemar.cat/document.php?id=3058
END:VEVENT
END:VCALENDAR